BEGIN:VCALENDAR
VERSION:2.0
PRODID:-//santafaz-cordoba.es - ECPv6.15.20//NONSGML v1.0//EN
CALSCALE:GREGORIAN
METHOD:PUBLISH
X-ORIGINAL-URL:https://www.santafaz-cordoba.es
X-WR-CALDESC:Eventos para santafaz-cordoba.es
REFRESH-INTERVAL;VALUE=DURATION:PT1H
X-Robots-Tag:noindex
X-PUBLISHED-TTL:PT1H
BEGIN:VTIMEZONE
TZID:Europe/Madrid
BEGIN:DAYLIGHT
TZOFFSETFROM:+0100
TZOFFSETTO:+0200
TZNAME:CEST
DTSTART:20240331T010000
END:DAYLIGHT
BEGIN:STANDARD
TZOFFSETFROM:+0200
TZOFFSETTO:+0100
TZNAME:CET
DTSTART:20241027T010000
END:STANDARD
BEGIN:DAYLIGHT
TZOFFSETFROM:+0100
TZOFFSETTO:+0200
TZNAME:CEST
DTSTART:20250330T010000
END:DAYLIGHT
BEGIN:STANDARD
TZOFFSETFROM:+0200
TZOFFSETTO:+0100
TZNAME:CET
DTSTART:20251026T010000
END:STANDARD
BEGIN:DAYLIGHT
TZOFFSETFROM:+0100
TZOFFSETTO:+0200
TZNAME:CEST
DTSTART:20260329T010000
END:DAYLIGHT
BEGIN:STANDARD
TZOFFSETFROM:+0200
TZOFFSETTO:+0100
TZNAME:CET
DTSTART:20261025T010000
END:STANDARD
END:VTIMEZONE
BEGIN:VEVENT
DTSTART;TZID=Europe/Madrid:20250430T120000
DTEND;TZID=Europe/Madrid:20250501T020000
DTSTAMP:20260422T104332
CREATED:20250425T171126Z
LAST-MODIFIED:20250427T112034Z
UID:2374-1746014400-1746064800@www.santafaz-cordoba.es
SUMMARY:Cruz de Mayo 2025 - Primer día
DESCRIPTION:
URL:https://www.santafaz-cordoba.es/evento/cruz-de-mayo-2025/
LOCATION:Plaza de la Compañía
CATEGORIES:Convivencias
END:VEVENT
BEGIN:VEVENT
DTSTART;TZID=Europe/Madrid:20250501T120000
DTEND;TZID=Europe/Madrid:20250502T000000
DTSTAMP:20260422T104332
CREATED:20250425T175826Z
LAST-MODIFIED:20250427T112017Z
UID:2384-1746100800-1746144000@www.santafaz-cordoba.es
SUMMARY:Cruz de Mayo 2025 - Segundo día
DESCRIPTION:
URL:https://www.santafaz-cordoba.es/evento/cruz-de-mayo-2025-2/
LOCATION:Plaza de la Compañía
CATEGORIES:Convivencias
END:VEVENT
BEGIN:VEVENT
DTSTART;TZID=Europe/Madrid:20250502T120000
DTEND;TZID=Europe/Madrid:20250503T020000
DTSTAMP:20260422T104332
CREATED:20250427T112141Z
LAST-MODIFIED:20250427T112142Z
UID:2386-1746187200-1746237600@www.santafaz-cordoba.es
SUMMARY:Cruz de Mayo 2025 - Tercer día
DESCRIPTION:
URL:https://www.santafaz-cordoba.es/evento/cruz-de-mayo-2025-tercer-dia/
LOCATION:Plaza de la Compañía
CATEGORIES:Convivencias
END:VEVENT
BEGIN:VEVENT
DTSTART;TZID=Europe/Madrid:20250503T120000
DTEND;TZID=Europe/Madrid:20250504T020000
DTSTAMP:20260422T104332
CREATED:20250427T112232Z
LAST-MODIFIED:20250427T112233Z
UID:2391-1746273600-1746324000@www.santafaz-cordoba.es
SUMMARY:Cruz de Mayo 2025 - Cuarto día
DESCRIPTION:
URL:https://www.santafaz-cordoba.es/evento/cruz-de-mayo-2025-cuarto-dia/
LOCATION:Plaza de la Compañía
CATEGORIES:Convivencias
END:VEVENT
BEGIN:VEVENT
DTSTART;TZID=Europe/Madrid:20250504T120000
DTEND;TZID=Europe/Madrid:20250504T150000
DTSTAMP:20260422T104332
CREATED:20250427T112333Z
LAST-MODIFIED:20250427T112334Z
UID:2393-1746360000-1746370800@www.santafaz-cordoba.es
SUMMARY:Cruz de Mayo 2025 - Quinto día
DESCRIPTION:
URL:https://www.santafaz-cordoba.es/evento/cruz-de-mayo-2025-quinto-dia/
LOCATION:Plaza de la Compañía
CATEGORIES:Convivencias
END:VEVENT
BEGIN:VEVENT
DTSTART;TZID=Europe/Madrid:20250511T080000
DTEND;TZID=Europe/Madrid:20250511T100000
DTSTAMP:20260422T104332
CREATED:20250505T173107Z
LAST-MODIFIED:20250505T173319Z
UID:2404-1746950400-1746957600@www.santafaz-cordoba.es
SUMMARY:Rosario de la Aurora 2025
DESCRIPTION:
URL:https://www.santafaz-cordoba.es/evento/rosario-de-la-aurora-2025/
LOCATION:Parroquia de San Juan y Todos los Santos (La Trinidad)\, Lope de Hoces nº1\, Córdoba
CATEGORIES:Cultos,Eucaristías y Adoraciones
END:VEVENT
END:VCALENDAR