BEGIN:VCALENDAR
VERSION:2.0
PRODID:-//santafaz-cordoba.es - ECPv6.15.20//NONSGML v1.0//EN
CALSCALE:GREGORIAN
METHOD:PUBLISH
X-ORIGINAL-URL:https://www.santafaz-cordoba.es
X-WR-CALDESC:Eventos para santafaz-cordoba.es
REFRESH-INTERVAL;VALUE=DURATION:PT1H
X-Robots-Tag:noindex
X-PUBLISHED-TTL:PT1H
BEGIN:VTIMEZONE
TZID:Europe/Madrid
BEGIN:DAYLIGHT
TZOFFSETFROM:+0100
TZOFFSETTO:+0200
TZNAME:CEST
DTSTART:20230326T010000
END:DAYLIGHT
BEGIN:STANDARD
TZOFFSETFROM:+0200
TZOFFSETTO:+0100
TZNAME:CET
DTSTART:20231029T010000
END:STANDARD
BEGIN:DAYLIGHT
TZOFFSETFROM:+0100
TZOFFSETTO:+0200
TZNAME:CEST
DTSTART:20240331T010000
END:DAYLIGHT
BEGIN:STANDARD
TZOFFSETFROM:+0200
TZOFFSETTO:+0100
TZNAME:CET
DTSTART:20241027T010000
END:STANDARD
BEGIN:DAYLIGHT
TZOFFSETFROM:+0100
TZOFFSETTO:+0200
TZNAME:CEST
DTSTART:20250330T010000
END:DAYLIGHT
BEGIN:STANDARD
TZOFFSETFROM:+0200
TZOFFSETTO:+0100
TZNAME:CET
DTSTART:20251026T010000
END:STANDARD
END:VTIMEZONE
BEGIN:VEVENT
DTSTART;TZID=Europe/Madrid:20240201T210000
DTEND;TZID=Europe/Madrid:20240201T233000
DTSTAMP:20260423T115622
CREATED:20240113T093523Z
LAST-MODIFIED:20240223T163127Z
UID:2045-1706821200-1706830200@www.santafaz-cordoba.es
SUMMARY:Ensayo del Palio
DESCRIPTION:
URL:https://www.santafaz-cordoba.es/evento/ensayo-del-palio/
LOCATION:Cocherón C/ González López
CATEGORIES:Costaleros
END:VEVENT
BEGIN:VEVENT
DTSTART;TZID=Europe/Madrid:20240203T183000
DTEND;TZID=Europe/Madrid:20240203T203000
DTSTAMP:20260423T115622
CREATED:20240113T094046Z
LAST-MODIFIED:20240113T094046Z
UID:2051-1706985000-1706992200@www.santafaz-cordoba.es
SUMMARY:Rosario de María Santísima de la Trinidad
DESCRIPTION:Eucaristía y posterior Rosario con Nuestra Madre y Señora María Santísima de la Trinidad.
URL:https://www.santafaz-cordoba.es/evento/rosario-de-maria-santisima-de-la-trinidad/
LOCATION:Parroquia de San Juan y Todos los Santos (La Trinidad)\, Lope de Hoces nº1\, Córdoba
CATEGORIES:Cultos,Eucaristías y Adoraciones
END:VEVENT
BEGIN:VEVENT
DTSTART;TZID=Europe/Madrid:20240212T210000
DTEND;TZID=Europe/Madrid:20240212T233000
DTSTAMP:20260423T115622
CREATED:20231204T164654Z
LAST-MODIFIED:20231204T164655Z
UID:1985-1707771600-1707780600@www.santafaz-cordoba.es
SUMMARY:Ensayo Paso de Misterio
DESCRIPTION:
URL:https://www.santafaz-cordoba.es/evento/ensayo-paso-de-misterio-5/
LOCATION:Cocherón C/ González López
CATEGORIES:Costaleros
END:VEVENT
BEGIN:VEVENT
DTSTART;TZID=Europe/Madrid:20240213T203000
DTEND;TZID=Europe/Madrid:20240213T213000
DTSTAMP:20260423T115622
CREATED:20240204T123603Z
LAST-MODIFIED:20240204T123603Z
UID:2082-1707856200-1707859800@www.santafaz-cordoba.es
SUMMARY:Quinario en Honor a Nuestro Padre Jesús Nazareno
DESCRIPTION:Predica el Rvdo. D. Jesús Linares Torrico.
URL:https://www.santafaz-cordoba.es/evento/quinario-en-honor-a-nuestro-padre-jesus-nazareno-9/
LOCATION:Parroquia de San Juan y Todos los Santos (La Trinidad)\, Lope de Hoces nº1\, Córdoba
CATEGORIES:Cultos
END:VEVENT
BEGIN:VEVENT
DTSTART;TZID=Europe/Madrid:20240214T203000
DTEND;TZID=Europe/Madrid:20240214T213000
DTSTAMP:20260423T115622
CREATED:20240204T123757Z
LAST-MODIFIED:20240204T124413Z
UID:2084-1707942600-1707946200@www.santafaz-cordoba.es
SUMMARY:Quinario en Honor a Nuestro Padre Jesús Nazareno
DESCRIPTION:Predica el M.I.R.SR.D. José Juan Jiménez Güeto.
URL:https://www.santafaz-cordoba.es/evento/quinario-en-honor-de-nuestro-padre-jesus-nazareno/
LOCATION:Parroquia de San Juan y Todos los Santos (La Trinidad)\, Lope de Hoces nº1\, Córdoba
CATEGORIES:Cultos
END:VEVENT
BEGIN:VEVENT
DTSTART;TZID=Europe/Madrid:20240215T203000
DTEND;TZID=Europe/Madrid:20240215T213000
DTSTAMP:20260423T115622
CREATED:20240204T123855Z
LAST-MODIFIED:20240204T123855Z
UID:2086-1708029000-1708032600@www.santafaz-cordoba.es
SUMMARY:Quinario en Honor a Nuestro Padre Jesús Nazareno
DESCRIPTION:Quinario en Honor a Nuestro Padre Jesús Nazareno.
URL:https://www.santafaz-cordoba.es/evento/quinario-en-honor-a-nuestro-padre-jesus-nazareno-10/
LOCATION:Parroquia de San Juan y Todos los Santos (La Trinidad)\, Lope de Hoces nº1\, Córdoba
CATEGORIES:Cultos
END:VEVENT
BEGIN:VEVENT
DTSTART;TZID=Europe/Madrid:20240216T203000
DTEND;TZID=Europe/Madrid:20240216T213000
DTSTAMP:20260423T115622
CREATED:20240204T123946Z
LAST-MODIFIED:20240204T123946Z
UID:2088-1708115400-1708119000@www.santafaz-cordoba.es
SUMMARY:Quinario en Honor a Nuestro Padre Jesús Nazareno
DESCRIPTION:Quinario en Honor a Nuestro Padre Jesús Nazareno.
URL:https://www.santafaz-cordoba.es/evento/quinario-en-honor-a-nuestro-padre-jesus-nazareno-11/
LOCATION:Parroquia de San Juan y Todos los Santos (La Trinidad)\, Lope de Hoces nº1\, Córdoba
CATEGORIES:Cultos
END:VEVENT
BEGIN:VEVENT
DTSTART;TZID=Europe/Madrid:20240217T170000
DTEND;TZID=Europe/Madrid:20240217T203000
DTSTAMP:20260423T115622
CREATED:20240204T124204Z
LAST-MODIFIED:20240204T124205Z
UID:2092-1708189200-1708201800@www.santafaz-cordoba.es
SUMMARY:Besapiés a Nuestro Padre Jesús Nazareno
DESCRIPTION:
URL:https://www.santafaz-cordoba.es/evento/besapies-a-nuestro-padre-jesus-nazareno/
LOCATION:Parroquia de San Juan y Todos los Santos (La Trinidad)\, Lope de Hoces nº1\, Córdoba
CATEGORIES:Cultos
END:VEVENT
BEGIN:VEVENT
DTSTART;TZID=Europe/Madrid:20240217T193000
DTEND;TZID=Europe/Madrid:20240217T203000
DTSTAMP:20260423T115622
CREATED:20240204T124112Z
LAST-MODIFIED:20240204T124112Z
UID:2090-1708198200-1708201800@www.santafaz-cordoba.es
SUMMARY:Fiesta de Regla de la Hermandad
DESCRIPTION:Predica el M.I.SR.D. José Juan Jiménez Güeto.
URL:https://www.santafaz-cordoba.es/evento/fiesta-de-regla-de-la-hermandad/
LOCATION:Parroquia de San Juan y Todos los Santos (La Trinidad)\, Lope de Hoces nº1\, Córdoba
CATEGORIES:Cultos
END:VEVENT
BEGIN:VEVENT
DTSTART;TZID=Europe/Madrid:20240218T090000
DTEND;TZID=Europe/Madrid:20240218T140000
DTSTAMP:20260423T115622
CREATED:20240204T124239Z
LAST-MODIFIED:20240204T124239Z
UID:2094-1708246800-1708264800@www.santafaz-cordoba.es
SUMMARY:Besapiés a Nuestro Padre Jesús Nazareno
DESCRIPTION:
URL:https://www.santafaz-cordoba.es/evento/besapies-a-nuestro-padre-jesus-nazareno-2/
LOCATION:Parroquia de San Juan y Todos los Santos (La Trinidad)\, Lope de Hoces nº1\, Córdoba
CATEGORIES:Cultos
END:VEVENT
BEGIN:VEVENT
DTSTART;TZID=Europe/Madrid:20240218T170000
DTEND;TZID=Europe/Madrid:20240218T203000
DTSTAMP:20260423T115622
CREATED:20240204T124319Z
LAST-MODIFIED:20240204T124319Z
UID:2096-1708275600-1708288200@www.santafaz-cordoba.es
SUMMARY:Besapiés a Nuestro Padre Jesús Nazareno
DESCRIPTION:
URL:https://www.santafaz-cordoba.es/evento/besapies-a-nuestro-padre-jesus-nazareno-3/
LOCATION:Parroquia de San Juan y Todos los Santos (La Trinidad)\, Lope de Hoces nº1\, Córdoba
CATEGORIES:Cultos
END:VEVENT
BEGIN:VEVENT
DTSTART;TZID=Europe/Madrid:20240219T173000
DTEND;TZID=Europe/Madrid:20240219T203000
DTSTAMP:20260423T115622
CREATED:20240204T124605Z
LAST-MODIFIED:20240204T124605Z
UID:2099-1708363800-1708374600@www.santafaz-cordoba.es
SUMMARY:Reparto de Papeletas de Sitio
DESCRIPTION:Hermanos con cargo\, túnicas en propiedad\, roquetes\, mantillas y costaleros.
URL:https://www.santafaz-cordoba.es/evento/reparto-de-papeletas-de-sitio-7/
LOCATION:Casa Hermandad (Sanchez de Feria nº12)
END:VEVENT
BEGIN:VEVENT
DTSTART;TZID=Europe/Madrid:20240220T173000
DTEND;TZID=Europe/Madrid:20240220T203000
DTSTAMP:20260423T115622
CREATED:20240204T124701Z
LAST-MODIFIED:20240204T124701Z
UID:2101-1708450200-1708461000@www.santafaz-cordoba.es
SUMMARY:Reparto de Papeletas de Sitio
DESCRIPTION:Hermanos con cargo\, túnicas en propiedad\, roquetes\, mantillas y costaleros.
URL:https://www.santafaz-cordoba.es/evento/reparto-de-papeletas-de-sitio-8/
LOCATION:Casa Hermandad (Sanchez de Feria nº12)
END:VEVENT
BEGIN:VEVENT
DTSTART;TZID=Europe/Madrid:20240221T173000
DTEND;TZID=Europe/Madrid:20240221T203000
DTSTAMP:20260423T115622
CREATED:20240204T124810Z
LAST-MODIFIED:20240204T124811Z
UID:2103-1708536600-1708547400@www.santafaz-cordoba.es
SUMMARY:Reparto de Papeletas de Sitio
DESCRIPTION:Resto de Hermanos que sacaron su papeleta de sitio en 2023.
URL:https://www.santafaz-cordoba.es/evento/reparto-de-papeletas-de-sitio-9/
LOCATION:Casa Hermandad (Sanchez de Feria nº12)
END:VEVENT
BEGIN:VEVENT
DTSTART;TZID=Europe/Madrid:20240222T173000
DTEND;TZID=Europe/Madrid:20240222T203000
DTSTAMP:20260423T115622
CREATED:20240204T124858Z
LAST-MODIFIED:20240204T124859Z
UID:2105-1708623000-1708633800@www.santafaz-cordoba.es
SUMMARY:Reparto de Papeletas de Sitio
DESCRIPTION:Resto de Hermanos que sacaron su papeleta de sitio en 2023.
URL:https://www.santafaz-cordoba.es/evento/reparto-de-papeletas-de-sitio-10/
LOCATION:Casa Hermandad (Sanchez de Feria nº12)
END:VEVENT
BEGIN:VEVENT
DTSTART;TZID=Europe/Madrid:20240223T200000
DTEND;TZID=Europe/Madrid:20240223T220000
DTSTAMP:20260423T115622
CREATED:20240204T125316Z
LAST-MODIFIED:20240204T125316Z
UID:2111-1708718400-1708725600@www.santafaz-cordoba.es
SUMMARY:Cabildo Ordinario de Hermanos
DESCRIPTION:
URL:https://www.santafaz-cordoba.es/evento/cabildo-ordinario-de-hermanos/
LOCATION:Centro Parroquial Carmen Márquez Criado\, Calle Tejón y Marín\, nº 9\, Córdoba\, Córdoba\, España
END:VEVENT
BEGIN:VEVENT
DTSTART;TZID=Europe/Madrid:20240224T103000
DTEND;TZID=Europe/Madrid:20240224T123000
DTSTAMP:20260423T115622
CREATED:20240204T125027Z
LAST-MODIFIED:20240204T125028Z
UID:2107-1708770600-1708777800@www.santafaz-cordoba.es
SUMMARY:Reparto de Papeletas de Sitio
DESCRIPTION:Cambios de túnica\, posición en el cortejo y hermanos que no sacaron su papeleta de sitio en 2022.
URL:https://www.santafaz-cordoba.es/evento/reparto-de-papeletas-de-sitio-11/
LOCATION:Casa Hermandad (Sanchez de Feria nº12)
END:VEVENT
BEGIN:VEVENT
DTSTART;TZID=Europe/Madrid:20240224T123000
DTEND;TZID=Europe/Madrid:20240224T140000
DTSTAMP:20260423T115622
CREATED:20240204T125125Z
LAST-MODIFIED:20240204T125126Z
UID:2109-1708777800-1708783200@www.santafaz-cordoba.es
SUMMARY:Reparto de Papeletas de Sitio
DESCRIPTION:Resto de hermanos y nuevas altas.
URL:https://www.santafaz-cordoba.es/evento/reparto-de-papeletas-de-sitio-12/
LOCATION:Casa Hermandad (Sanchez de Feria nº12)
END:VEVENT
BEGIN:VEVENT
DTSTART;TZID=Europe/Madrid:20240226T210000
DTEND;TZID=Europe/Madrid:20240226T233000
DTSTAMP:20260423T115622
CREATED:20231204T164735Z
LAST-MODIFIED:20231204T164736Z
UID:1987-1708981200-1708990200@www.santafaz-cordoba.es
SUMMARY:Ensayo Paso de Misterio
DESCRIPTION:
URL:https://www.santafaz-cordoba.es/evento/ensayo-paso-de-misterio-6/
LOCATION:Cocherón C/ González López
CATEGORIES:Costaleros
END:VEVENT
BEGIN:VEVENT
DTSTART;TZID=Europe/Madrid:20240229T210000
DTEND;TZID=Europe/Madrid:20240229T233000
DTSTAMP:20260423T115622
CREATED:20240113T093719Z
LAST-MODIFIED:20240223T163044Z
UID:2047-1709240400-1709249400@www.santafaz-cordoba.es
SUMMARY:Ensayo del Palio
DESCRIPTION:
URL:https://www.santafaz-cordoba.es/evento/ensayo-del-palio-2/
LOCATION:Cocherón C/ González López
CATEGORIES:Costaleros
END:VEVENT
END:VCALENDAR