BEGIN:VCALENDAR
VERSION:2.0
PRODID:-//santafaz-cordoba.es - ECPv6.15.20//NONSGML v1.0//EN
CALSCALE:GREGORIAN
METHOD:PUBLISH
X-WR-CALNAME:santafaz-cordoba.es
X-ORIGINAL-URL:https://www.santafaz-cordoba.es
X-WR-CALDESC:Eventos para santafaz-cordoba.es
REFRESH-INTERVAL;VALUE=DURATION:PT1H
X-Robots-Tag:noindex
X-PUBLISHED-TTL:PT1H
BEGIN:VTIMEZONE
TZID:Europe/Madrid
BEGIN:DAYLIGHT
TZOFFSETFROM:+0100
TZOFFSETTO:+0200
TZNAME:CEST
DTSTART:20210328T010000
END:DAYLIGHT
BEGIN:STANDARD
TZOFFSETFROM:+0200
TZOFFSETTO:+0100
TZNAME:CET
DTSTART:20211031T010000
END:STANDARD
BEGIN:DAYLIGHT
TZOFFSETFROM:+0100
TZOFFSETTO:+0200
TZNAME:CEST
DTSTART:20220327T010000
END:DAYLIGHT
BEGIN:STANDARD
TZOFFSETFROM:+0200
TZOFFSETTO:+0100
TZNAME:CET
DTSTART:20221030T010000
END:STANDARD
BEGIN:DAYLIGHT
TZOFFSETFROM:+0100
TZOFFSETTO:+0200
TZNAME:CEST
DTSTART:20230326T010000
END:DAYLIGHT
BEGIN:STANDARD
TZOFFSETFROM:+0200
TZOFFSETTO:+0100
TZNAME:CET
DTSTART:20231029T010000
END:STANDARD
END:VTIMEZONE
BEGIN:VEVENT
DTSTART;TZID=Europe/Madrid:20220301T203000
DTEND;TZID=Europe/Madrid:20220301T213000
DTSTAMP:20260420T012009
CREATED:20220212T180204Z
LAST-MODIFIED:20220212T180204Z
UID:1259-1646166600-1646170200@www.santafaz-cordoba.es
SUMMARY:Quinario en Honor a Nuestro Padre Jesús Nazareno
DESCRIPTION:Primer Día del Quinario en Honor a Nuestro Padre Jesús Nazareno.
URL:https://www.santafaz-cordoba.es/evento/quinario-en-honor-a-nuestro-padre-jesus-nazareno/
LOCATION:Parroquia de San Juan y Todos los Santos (La Trinidad)\, Lope de Hoces nº1\, Córdoba
END:VEVENT
BEGIN:VEVENT
DTSTART;TZID=Europe/Madrid:20220302T203000
DTEND;TZID=Europe/Madrid:20220302T213000
DTSTAMP:20260420T012009
CREATED:20220212T180349Z
LAST-MODIFIED:20220212T180350Z
UID:1261-1646253000-1646256600@www.santafaz-cordoba.es
SUMMARY:Quinario en Honor a Nuestro Padre Jesús Nazareno
DESCRIPTION:Segundo Día del Quinario en Honor a Nuestro Padre Jesús Nazareno.
URL:https://www.santafaz-cordoba.es/evento/quinario-en-honor-a-nuestro-padre-jesus-nazareno-2/
LOCATION:Parroquia de San Juan y Todos los Santos (La Trinidad)\, Lope de Hoces nº1\, Córdoba
END:VEVENT
BEGIN:VEVENT
DTSTART;TZID=Europe/Madrid:20220303T203000
DTEND;TZID=Europe/Madrid:20220303T213000
DTSTAMP:20260420T012009
CREATED:20220212T180439Z
LAST-MODIFIED:20220212T180440Z
UID:1263-1646339400-1646343000@www.santafaz-cordoba.es
SUMMARY:Quinario en Honor a Nuestro Padre Jesús Nazareno
DESCRIPTION:Tercer Día del Quinario en Honor a Nuestro Padre Jesús Nazareno.
URL:https://www.santafaz-cordoba.es/evento/quinario-en-honor-a-nuestro-padre-jesus-nazareno-3/
LOCATION:Parroquia de San Juan y Todos los Santos (La Trinidad)\, Lope de Hoces nº1\, Córdoba
END:VEVENT
BEGIN:VEVENT
DTSTART;TZID=Europe/Madrid:20220304T203000
DTEND;TZID=Europe/Madrid:20220304T213000
DTSTAMP:20260420T012009
CREATED:20220212T180532Z
LAST-MODIFIED:20220212T180532Z
UID:1265-1646425800-1646429400@www.santafaz-cordoba.es
SUMMARY:Quinario en Honor a Nuestro Padre Jesús Nazareno
DESCRIPTION:Cuarto Día del Quinario en Honor a Nuestro Padre Jesús Nazareno.
URL:https://www.santafaz-cordoba.es/evento/quinario-en-honor-a-nuestro-padre-jesus-nazareno-4/
LOCATION:Parroquia de San Juan y Todos los Santos (La Trinidad)\, Lope de Hoces nº1\, Córdoba
END:VEVENT
BEGIN:VEVENT
DTSTART;TZID=Europe/Madrid:20220305T193000
DTEND;TZID=Europe/Madrid:20220305T210000
DTSTAMP:20260420T012009
CREATED:20220212T180651Z
LAST-MODIFIED:20220212T180651Z
UID:1267-1646508600-1646514000@www.santafaz-cordoba.es
SUMMARY:Fiesta de Regla
DESCRIPTION:Solemne Eucaristía de la Fiesta de Regla de la Hermandad.
URL:https://www.santafaz-cordoba.es/evento/fiesta-de-regla/
LOCATION:Parroquia de San Juan y Todos los Santos (La Trinidad)\, Lope de Hoces nº1\, Córdoba
END:VEVENT
BEGIN:VEVENT
DTSTART;TZID=Europe/Madrid:20220307T210000
DTEND;TZID=Europe/Madrid:20220307T235900
DTSTAMP:20260420T012009
CREATED:20220203T161036Z
LAST-MODIFIED:20220203T161037Z
UID:1232-1646686800-1646697540@www.santafaz-cordoba.es
SUMMARY:Ensayo Misterio
DESCRIPTION:
URL:https://www.santafaz-cordoba.es/evento/ensayo-misterio-3/
LOCATION:Cocherón C/ González López
END:VEVENT
BEGIN:VEVENT
DTSTART;TZID=Europe/Madrid:20220310T210000
DTEND;TZID=Europe/Madrid:20220310T235900
DTSTAMP:20260420T012009
CREATED:20220203T161454Z
LAST-MODIFIED:20220203T161455Z
UID:1238-1646946000-1646956740@www.santafaz-cordoba.es
SUMMARY:Ensayo Palio
DESCRIPTION:
URL:https://www.santafaz-cordoba.es/evento/ensayo-palio-2/
LOCATION:Cocherón C/ González López
END:VEVENT
BEGIN:VEVENT
DTSTART;TZID=Europe/Madrid:20220316T173000
DTEND;TZID=Europe/Madrid:20220316T203000
DTSTAMP:20260420T012009
CREATED:20220302T164116Z
LAST-MODIFIED:20220302T164116Z
UID:1285-1647451800-1647462600@www.santafaz-cordoba.es
SUMMARY:Reparto de Papeletas de Sitio
DESCRIPTION:Reparto de Papeletas de Sitio para hermanos con cargos\, túnicas en propiedad\, roquetes\, mantillas y costaleros.
URL:https://www.santafaz-cordoba.es/evento/reparto-de-papeletas-de-sitio/
LOCATION:Casa Hermandad (Sanchez de Feria nº12)
END:VEVENT
BEGIN:VEVENT
DTSTART;TZID=Europe/Madrid:20220317T173000
DTEND;TZID=Europe/Madrid:20220317T203000
DTSTAMP:20260420T012009
CREATED:20220302T164216Z
LAST-MODIFIED:20220302T164217Z
UID:1287-1647538200-1647549000@www.santafaz-cordoba.es
SUMMARY:Reparto de Papeletas de Sitio
DESCRIPTION:Reparto de Papeletas de Sitio para hermanos con cargos\, túnicas en propiedad\, roquetes\, mantillas y costaleros.
URL:https://www.santafaz-cordoba.es/evento/reparto-de-papeletas-de-sitio-2/
LOCATION:Casa Hermandad (Sanchez de Feria nº12)
END:VEVENT
BEGIN:VEVENT
DTSTART;TZID=Europe/Madrid:20220318T173000
DTEND;TZID=Europe/Madrid:20220318T203000
DTSTAMP:20260420T012009
CREATED:20220302T164404Z
LAST-MODIFIED:20220302T164405Z
UID:1289-1647624600-1647635400@www.santafaz-cordoba.es
SUMMARY:Reparto de Papeletas de Sitio
DESCRIPTION:Reparto de Papeletas de Sitio para el resto de hermanos que sacaron papeleta en 2020.
URL:https://www.santafaz-cordoba.es/evento/reparto-de-papeletas-de-sitio-3/
LOCATION:Casa Hermandad (Sanchez de Feria nº12)
END:VEVENT
BEGIN:VEVENT
DTSTART;TZID=Europe/Madrid:20220319T110000
DTEND;TZID=Europe/Madrid:20220319T133000
DTSTAMP:20260420T012009
CREATED:20220302T164510Z
LAST-MODIFIED:20220302T164510Z
UID:1291-1647687600-1647696600@www.santafaz-cordoba.es
SUMMARY:Reparto de Papeletas de Sitio
DESCRIPTION:Reparto de Papeletas de Sitio para el resto de hermanos que sacaron papeleta en 2020.
URL:https://www.santafaz-cordoba.es/evento/reparto-de-papeletas-de-sitio-4/
LOCATION:Casa Hermandad (Sanchez de Feria nº12)
END:VEVENT
BEGIN:VEVENT
DTSTART;TZID=Europe/Madrid:20220320T103000
DTEND;TZID=Europe/Madrid:20220320T123000
DTSTAMP:20260420T012009
CREATED:20220302T164647Z
LAST-MODIFIED:20220302T164648Z
UID:1293-1647772200-1647779400@www.santafaz-cordoba.es
SUMMARY:Reparto de Papeletas de Sitio
DESCRIPTION:Reparto de Papeletas de Sitio para hermanos que no sacaron papeleta en 2020 y cambios de túnica y posición en el cortejo.
URL:https://www.santafaz-cordoba.es/evento/reparto-de-papeletas-de-sitio-5/
LOCATION:Casa Hermandad (Sanchez de Feria nº12)
END:VEVENT
BEGIN:VEVENT
DTSTART;TZID=Europe/Madrid:20220320T123000
DTEND;TZID=Europe/Madrid:20220320T133000
DTSTAMP:20260420T012009
CREATED:20220302T164746Z
LAST-MODIFIED:20220302T164747Z
UID:1295-1647779400-1647783000@www.santafaz-cordoba.es
SUMMARY:Reparto de Papeletas de Sitio
DESCRIPTION:Reparto de Papeletas de Sitio para el resto de hermanos y nuevas altas.
URL:https://www.santafaz-cordoba.es/evento/reparto-de-papeletas-de-sitio-6/
LOCATION:Casa Hermandad (Sanchez de Feria nº12)
END:VEVENT
BEGIN:VEVENT
DTSTART;TZID=Europe/Madrid:20220321T210000
DTEND;TZID=Europe/Madrid:20220321T235900
DTSTAMP:20260420T012009
CREATED:20220203T161128Z
LAST-MODIFIED:20220203T161211Z
UID:1234-1647896400-1647907140@www.santafaz-cordoba.es
SUMMARY:Ensayo Misterio
DESCRIPTION:
URL:https://www.santafaz-cordoba.es/evento/ensayo-misterio-4/
LOCATION:Cocherón C/ González López
END:VEVENT
BEGIN:VEVENT
DTSTART;TZID=Europe/Madrid:20220324T210000
DTEND;TZID=Europe/Madrid:20220324T235900
DTSTAMP:20260420T012009
CREATED:20220203T161551Z
LAST-MODIFIED:20220203T161551Z
UID:1240-1648155600-1648166340@www.santafaz-cordoba.es
SUMMARY:Ensayo Palio
DESCRIPTION:
URL:https://www.santafaz-cordoba.es/evento/ensayo-palio-3/
LOCATION:Cocherón C/ González López
END:VEVENT
BEGIN:VEVENT
DTSTART;TZID=Europe/Madrid:20220331T210000
DTEND;TZID=Europe/Madrid:20220331T235900
DTSTAMP:20260420T012009
CREATED:20220203T161647Z
LAST-MODIFIED:20220203T161742Z
UID:1242-1648760400-1648771140@www.santafaz-cordoba.es
SUMMARY:Ensayo Palio. Retranqueo
DESCRIPTION:
URL:https://www.santafaz-cordoba.es/evento/ensayo-palio-retranqueo/
LOCATION:Cocherón C/ González López
END:VEVENT
END:VCALENDAR