BEGIN:VCALENDAR
VERSION:2.0
PRODID:-//santafaz-cordoba.es - ECPv6.15.20//NONSGML v1.0//EN
CALSCALE:GREGORIAN
METHOD:PUBLISH
X-ORIGINAL-URL:https://www.santafaz-cordoba.es
X-WR-CALDESC:Eventos para santafaz-cordoba.es
REFRESH-INTERVAL;VALUE=DURATION:PT1H
X-Robots-Tag:noindex
X-PUBLISHED-TTL:PT1H
BEGIN:VTIMEZONE
TZID:Europe/Madrid
BEGIN:DAYLIGHT
TZOFFSETFROM:+0100
TZOFFSETTO:+0200
TZNAME:CEST
DTSTART:20210328T010000
END:DAYLIGHT
BEGIN:STANDARD
TZOFFSETFROM:+0200
TZOFFSETTO:+0100
TZNAME:CET
DTSTART:20211031T010000
END:STANDARD
BEGIN:DAYLIGHT
TZOFFSETFROM:+0100
TZOFFSETTO:+0200
TZNAME:CEST
DTSTART:20220327T010000
END:DAYLIGHT
BEGIN:STANDARD
TZOFFSETFROM:+0200
TZOFFSETTO:+0100
TZNAME:CET
DTSTART:20221030T010000
END:STANDARD
BEGIN:DAYLIGHT
TZOFFSETFROM:+0100
TZOFFSETTO:+0200
TZNAME:CEST
DTSTART:20230326T010000
END:DAYLIGHT
BEGIN:STANDARD
TZOFFSETFROM:+0200
TZOFFSETTO:+0100
TZNAME:CET
DTSTART:20231029T010000
END:STANDARD
END:VTIMEZONE
BEGIN:VEVENT
DTSTART;TZID=Europe/Madrid:20220204T210000
DTEND;TZID=Europe/Madrid:20220204T223000
DTSTAMP:20260419T233303
CREATED:20220119T190057Z
LAST-MODIFIED:20220119T164640Z
UID:1205-1644008400-1644013800@www.santafaz-cordoba.es
SUMMARY:Igualá del Palio
DESCRIPTION:Igualá del Paso de Palio de Nuestra Madre y Señora\, María Santísima de la Trinidad.
URL:https://www.santafaz-cordoba.es/evento/iguala-del-palio/
LOCATION:Cocherón C/ González López
END:VEVENT
BEGIN:VEVENT
DTSTART;TZID=Europe/Madrid:20220205T183000
DTEND;TZID=Europe/Madrid:20220205T203000
DTSTAMP:20260419T233303
CREATED:20220128T160630Z
LAST-MODIFIED:20220128T160917Z
UID:1209-1644085800-1644093000@www.santafaz-cordoba.es
SUMMARY:Rosario Vespertino
DESCRIPTION:Solemne Eucaristía y posterior rezo del Santo Rosario junto a Nuestra Madre y Señora\, María Santísima de la Trinidad.
URL:https://www.santafaz-cordoba.es/evento/rosario-vespertino/
LOCATION:Parroquia de San Juan y Todos los Santos (La Trinidad)\, Lope de Hoces nº1\, Córdoba
END:VEVENT
BEGIN:VEVENT
DTSTART;TZID=Europe/Madrid:20220207T210000
DTEND;TZID=Europe/Madrid:20220207T235900
DTSTAMP:20260419T233303
CREATED:20220203T160607Z
LAST-MODIFIED:20220203T160758Z
UID:1227-1644267600-1644278340@www.santafaz-cordoba.es
SUMMARY:Ensayo Misterio
DESCRIPTION:
URL:https://www.santafaz-cordoba.es/evento/ensayo-misterio/
LOCATION:Cocherón C/ González López
END:VEVENT
BEGIN:VEVENT
DTSTART;TZID=Europe/Madrid:20220211T200000
DTEND;TZID=Europe/Madrid:20220211T210000
DTSTAMP:20260419T233303
CREATED:20220212T180751Z
LAST-MODIFIED:20220212T180752Z
UID:1269-1644609600-1644613200@www.santafaz-cordoba.es
SUMMARY:Hora Santa
DESCRIPTION:Correspondiente al mes de febrero.
URL:https://www.santafaz-cordoba.es/evento/hora-santa-2/
LOCATION:Parroquia de San Juan y Todos los Santos (La Trinidad)\, Lope de Hoces nº1\, Córdoba
END:VEVENT
BEGIN:VEVENT
DTSTART;TZID=Europe/Madrid:20220217T210000
DTEND;TZID=Europe/Madrid:20220217T235900
DTSTAMP:20260419T233303
CREATED:20220203T161356Z
LAST-MODIFIED:20220203T161356Z
UID:1236-1645131600-1645142340@www.santafaz-cordoba.es
SUMMARY:Ensayo Palio
DESCRIPTION:
URL:https://www.santafaz-cordoba.es/evento/ensayo-palio/
LOCATION:Cocherón C/ González López
END:VEVENT
BEGIN:VEVENT
DTSTART;TZID=Europe/Madrid:20220221T210000
DTEND;TZID=Europe/Madrid:20220221T235900
DTSTAMP:20260419T233303
CREATED:20220203T160933Z
LAST-MODIFIED:20220203T160934Z
UID:1230-1645477200-1645487940@www.santafaz-cordoba.es
SUMMARY:Ensayo Misterio
DESCRIPTION:
URL:https://www.santafaz-cordoba.es/evento/ensayo-misterio-2/
LOCATION:Cocherón C/ González López
END:VEVENT
END:VCALENDAR