BEGIN:VCALENDAR
VERSION:2.0
PRODID:-//santafaz-cordoba.es - ECPv6.15.20//NONSGML v1.0//EN
CALSCALE:GREGORIAN
METHOD:PUBLISH
X-WR-CALNAME:santafaz-cordoba.es
X-ORIGINAL-URL:https://www.santafaz-cordoba.es
X-WR-CALDESC:Eventos para santafaz-cordoba.es
REFRESH-INTERVAL;VALUE=DURATION:PT1H
X-Robots-Tag:noindex
X-PUBLISHED-TTL:PT1H
BEGIN:VTIMEZONE
TZID:Europe/Madrid
BEGIN:DAYLIGHT
TZOFFSETFROM:+0100
TZOFFSETTO:+0200
TZNAME:CEST
DTSTART:20240331T010000
END:DAYLIGHT
BEGIN:STANDARD
TZOFFSETFROM:+0200
TZOFFSETTO:+0100
TZNAME:CET
DTSTART:20241027T010000
END:STANDARD
BEGIN:DAYLIGHT
TZOFFSETFROM:+0100
TZOFFSETTO:+0200
TZNAME:CEST
DTSTART:20250330T010000
END:DAYLIGHT
BEGIN:STANDARD
TZOFFSETFROM:+0200
TZOFFSETTO:+0100
TZNAME:CET
DTSTART:20251026T010000
END:STANDARD
BEGIN:DAYLIGHT
TZOFFSETFROM:+0100
TZOFFSETTO:+0200
TZNAME:CEST
DTSTART:20260329T010000
END:DAYLIGHT
BEGIN:STANDARD
TZOFFSETFROM:+0200
TZOFFSETTO:+0100
TZNAME:CET
DTSTART:20261025T010000
END:STANDARD
BEGIN:DAYLIGHT
TZOFFSETFROM:+0100
TZOFFSETTO:+0200
TZNAME:CEST
DTSTART:20270328T010000
END:DAYLIGHT
BEGIN:STANDARD
TZOFFSETFROM:+0200
TZOFFSETTO:+0100
TZNAME:CET
DTSTART:20271031T010000
END:STANDARD
END:VTIMEZONE
BEGIN:VEVENT
DTSTART;TZID=Europe/Madrid:20251014T203000
DTEND;TZID=Europe/Madrid:20251014T213000
DTSTAMP:20260423T003836
CREATED:20251009T180058Z
LAST-MODIFIED:20251009T180058Z
UID:2449-1760473800-1760477400@www.santafaz-cordoba.es
SUMMARY:Misa Mensual de Hermanos
DESCRIPTION:
URL:https://www.santafaz-cordoba.es/evento/misa-mensual-de-hermanos-9/
LOCATION:Parroquia de San Juan y Todos los Santos (La Trinidad)\, Lope de Hoces nº1\, Córdoba
CATEGORIES:Eucaristías y Adoraciones
END:VEVENT
BEGIN:VEVENT
DTSTART;TZID=Europe/Madrid:20251017T200000
DTEND;TZID=Europe/Madrid:20251017T210000
DTSTAMP:20260423T003836
CREATED:20251015T165341Z
LAST-MODIFIED:20251015T165341Z
UID:2454-1760731200-1760734800@www.santafaz-cordoba.es
SUMMARY:Presentación de la Carta Pastoral 2025-2026
DESCRIPTION:
URL:https://www.santafaz-cordoba.es/evento/presentacion-de-la-carta-pastoral-2025-2026/
LOCATION:Parroquia de San Juan y Todos los Santos (La Trinidad)\, Lope de Hoces nº1\, Córdoba
CATEGORIES:Formación
END:VEVENT
BEGIN:VEVENT
DTSTART;TZID=Europe/Madrid:20251204T203000
DTEND;TZID=Europe/Madrid:20251204T213000
DTSTAMP:20260423T003836
CREATED:20251124T135213Z
LAST-MODIFIED:20251124T135213Z
UID:2468-1764880200-1764883800@www.santafaz-cordoba.es
SUMMARY:Triduo Virgen de la Trinidad. Primer día
DESCRIPTION:
URL:https://www.santafaz-cordoba.es/evento/triduo-virgen-de-la-trinidad-primer-dia-2/
LOCATION:Parroquia de San Juan y Todos los Santos (La Trinidad)\, Lope de Hoces nº1\, Córdoba
CATEGORIES:Cultos
END:VEVENT
BEGIN:VEVENT
DTSTART;TZID=Europe/Madrid:20251205T203000
DTEND;TZID=Europe/Madrid:20251205T213000
DTSTAMP:20260423T003836
CREATED:20251124T135328Z
LAST-MODIFIED:20251124T135328Z
UID:2470-1764966600-1764970200@www.santafaz-cordoba.es
SUMMARY:Triduo Virgen de la Trinidad. Segundo día
DESCRIPTION:
URL:https://www.santafaz-cordoba.es/evento/triduo-virgen-de-la-trinidad-segundo-dia-2/
LOCATION:Parroquia de San Juan y Todos los Santos (La Trinidad)\, Lope de Hoces nº1\, Córdoba
CATEGORIES:Cultos
END:VEVENT
BEGIN:VEVENT
DTSTART;TZID=Europe/Madrid:20251206T193000
DTEND;TZID=Europe/Madrid:20251206T203000
DTSTAMP:20260423T003836
CREATED:20251124T135416Z
LAST-MODIFIED:20251124T135416Z
UID:2472-1765049400-1765053000@www.santafaz-cordoba.es
SUMMARY:Triduo Virgen de la Trinidad. Tercer día
DESCRIPTION:
URL:https://www.santafaz-cordoba.es/evento/triduo-virgen-de-la-trinidad-tercer-dia-2/
LOCATION:Parroquia de San Juan y Todos los Santos (La Trinidad)\, Lope de Hoces nº1\, Córdoba
CATEGORIES:Cultos
END:VEVENT
BEGIN:VEVENT
DTSTART;TZID=Europe/Madrid:20251207T130000
DTEND;TZID=Europe/Madrid:20251207T140000
DTSTAMP:20260423T003836
CREATED:20251124T135531Z
LAST-MODIFIED:20251124T135531Z
UID:2474-1765112400-1765116000@www.santafaz-cordoba.es
SUMMARY:Triduo Virgen de la Trinidad. Función Principal
DESCRIPTION:
URL:https://www.santafaz-cordoba.es/evento/triduo-virgen-de-la-trinidad-funcion-principal-2/
LOCATION:Parroquia de San Juan y Todos los Santos (La Trinidad)\, Lope de Hoces nº1\, Córdoba
CATEGORIES:Cultos
END:VEVENT
BEGIN:VEVENT
DTSTART;TZID=Europe/Madrid:20251222T170000
DTEND;TZID=Europe/Madrid:20251222T200000
DTSTAMP:20260423T003836
CREATED:20251216T174224Z
LAST-MODIFIED:20251216T174224Z
UID:2510-1766422800-1766433600@www.santafaz-cordoba.es
SUMMARY:Chocolatada 2025
DESCRIPTION:
URL:https://www.santafaz-cordoba.es/evento/chocolatada-2025/
LOCATION:Centro Parroquial Carmen Márquez Criado\, Calle Tejón y Marín\, nº 9\, Córdoba\, Córdoba\, España
CATEGORIES:Convivencias
ORGANIZER;CN="Grupo Joven":MAILTO:grupojoven@santafaz-cordoba.es
END:VEVENT
BEGIN:VEVENT
DTSTART;TZID=Europe/Madrid:20260116T210000
DTEND;TZID=Europe/Madrid:20260116T230000
DTSTAMP:20260423T003836
CREATED:20251124T135753Z
LAST-MODIFIED:20251124T135753Z
UID:2478-1768597200-1768604400@www.santafaz-cordoba.es
SUMMARY:Igualá del Paso de Palio
DESCRIPTION:
URL:https://www.santafaz-cordoba.es/evento/iguala-del-paso-de-palio-3/
LOCATION:Cocherón C/ González López
CATEGORIES:Costaleros
END:VEVENT
BEGIN:VEVENT
DTSTART;TZID=Europe/Madrid:20260117T120000
DTEND;TZID=Europe/Madrid:20260117T140000
DTSTAMP:20260423T003836
CREATED:20251124T135708Z
LAST-MODIFIED:20251124T135708Z
UID:2476-1768651200-1768658400@www.santafaz-cordoba.es
SUMMARY:Igualá del Paso de Misterio
DESCRIPTION:
URL:https://www.santafaz-cordoba.es/evento/iguala-del-paso-de-misterio-3/
LOCATION:Centro Parroquial Carmen Márquez Criado\, Calle Tejón y Marín\, nº 9\, Córdoba\, Córdoba\, España
CATEGORIES:Costaleros
END:VEVENT
BEGIN:VEVENT
DTSTART;TZID=Europe/Madrid:20260117T170000
DTEND;TZID=Europe/Madrid:20260117T180000
DTSTAMP:20260423T003836
CREATED:20260112T180724Z
LAST-MODIFIED:20260112T180724Z
UID:2534-1768669200-1768672800@www.santafaz-cordoba.es
SUMMARY:Cabildo extraordinario
DESCRIPTION:
URL:https://www.santafaz-cordoba.es/evento/cabildo-extraordinario/
LOCATION:Centro Parroquial Carmen Márquez Criado\, Calle Tejón y Marín\, nº 9\, Córdoba\, Córdoba\, España
CATEGORIES:Cabildos
END:VEVENT
BEGIN:VEVENT
DTSTART;TZID=Europe/Madrid:20260117T180000
DTEND;TZID=Europe/Madrid:20260117T200000
DTSTAMP:20260423T003836
CREATED:20260112T180806Z
LAST-MODIFIED:20260112T180806Z
UID:2536-1768672800-1768680000@www.santafaz-cordoba.es
SUMMARY:Cabildo ordinario
DESCRIPTION:
URL:https://www.santafaz-cordoba.es/evento/cabildo-ordinario/
LOCATION:Centro Parroquial Carmen Márquez Criado\, Calle Tejón y Marín\, nº 9\, Córdoba\, Córdoba\, España
CATEGORIES:Cabildos
END:VEVENT
BEGIN:VEVENT
DTSTART;TZID=Europe/Madrid:20260120T203000
DTEND;TZID=Europe/Madrid:20260120T213000
DTSTAMP:20260423T003836
CREATED:20260112T181017Z
LAST-MODIFIED:20260112T181017Z
UID:2539-1768941000-1768944600@www.santafaz-cordoba.es
SUMMARY:Misa mensual de Hermanos
DESCRIPTION:
URL:https://www.santafaz-cordoba.es/evento/misa-mensual-de-hermanos-10/
LOCATION:Parroquia de San Juan y Todos los Santos (La Trinidad)\, Lope de Hoces nº1\, Córdoba
CATEGORIES:Eucaristías y Adoraciones
END:VEVENT
BEGIN:VEVENT
DTSTART;TZID=Europe/Madrid:20260126T210000
DTEND;TZID=Europe/Madrid:20260127T003000
DTSTAMP:20260423T003836
CREATED:20251124T135916Z
LAST-MODIFIED:20251124T140326Z
UID:2480-1769461200-1769473800@www.santafaz-cordoba.es
SUMMARY:Primer ensayo del Paso de Misterio
DESCRIPTION:
URL:https://www.santafaz-cordoba.es/evento/primer-ensayo-del-paso-de-misterio/
LOCATION:Cocherón C/ González López
CATEGORIES:Costaleros
END:VEVENT
BEGIN:VEVENT
DTSTART;TZID=Europe/Madrid:20260205T210000
DTEND;TZID=Europe/Madrid:20260206T003000
DTSTAMP:20260423T003836
CREATED:20251124T140149Z
LAST-MODIFIED:20251124T140149Z
UID:2486-1770325200-1770337800@www.santafaz-cordoba.es
SUMMARY:Primer ensayo del Paso de Palio
DESCRIPTION:
URL:https://www.santafaz-cordoba.es/evento/primer-ensayo-del-paso-de-palio/
LOCATION:Cocherón C/ González López
CATEGORIES:Costaleros
END:VEVENT
BEGIN:VEVENT
DTSTART;TZID=Europe/Madrid:20260212T210000
DTEND;TZID=Europe/Madrid:20260213T003000
DTSTAMP:20260423T003836
CREATED:20251124T140226Z
LAST-MODIFIED:20251124T140226Z
UID:2488-1770930000-1770942600@www.santafaz-cordoba.es
SUMMARY:Segundo ensayo del Paso de Palio
DESCRIPTION:
URL:https://www.santafaz-cordoba.es/evento/segundo-ensayo-del-paso-de-palio/
LOCATION:Cocherón C/ González López
CATEGORIES:Costaleros
END:VEVENT
BEGIN:VEVENT
DTSTART;TZID=Europe/Madrid:20260216T210000
DTEND;TZID=Europe/Madrid:20260217T003000
DTSTAMP:20260423T003836
CREATED:20251124T140013Z
LAST-MODIFIED:20251124T140013Z
UID:2482-1771275600-1771288200@www.santafaz-cordoba.es
SUMMARY:Segundo ensayo del Paso de Misterio
DESCRIPTION:
URL:https://www.santafaz-cordoba.es/evento/segundo-ensayo-del-paso-de-misterio/
LOCATION:Cocherón C/ González López
CATEGORIES:Costaleros
END:VEVENT
BEGIN:VEVENT
DTSTART;TZID=Europe/Madrid:20260217T203000
DTEND;TZID=Europe/Madrid:20260217T213000
DTSTAMP:20260423T003836
CREATED:20260206T125245Z
LAST-MODIFIED:20260206T125245Z
UID:2563-1771360200-1771363800@www.santafaz-cordoba.es
SUMMARY:Quinario Nuestro Padre Jesús Nazareno. Primer día
DESCRIPTION:
URL:https://www.santafaz-cordoba.es/evento/quinario-nuestro-padre-jesus-nazareno-primer-dia/
LOCATION:Parroquia de San Juan y Todos los Santos (La Trinidad)\, Lope de Hoces nº1\, Córdoba
CATEGORIES:Cultos,Eucaristías y Adoraciones
END:VEVENT
BEGIN:VEVENT
DTSTART;TZID=Europe/Madrid:20260218T203000
DTEND;TZID=Europe/Madrid:20260218T213000
DTSTAMP:20260423T003836
CREATED:20260206T125330Z
LAST-MODIFIED:20260206T125330Z
UID:2565-1771446600-1771450200@www.santafaz-cordoba.es
SUMMARY:Quinario Nuestro Padre Jesús Nazareno. Segundo día
DESCRIPTION:
URL:https://www.santafaz-cordoba.es/evento/quinario-nuestro-padre-jesus-nazareno-segundo-dia/
LOCATION:Parroquia de San Juan y Todos los Santos (La Trinidad)\, Lope de Hoces nº1\, Córdoba
CATEGORIES:Cultos,Eucaristías y Adoraciones
END:VEVENT
BEGIN:VEVENT
DTSTART;TZID=Europe/Madrid:20260219T203000
DTEND;TZID=Europe/Madrid:20260219T213000
DTSTAMP:20260423T003836
CREATED:20260206T125406Z
LAST-MODIFIED:20260206T125407Z
UID:2567-1771533000-1771536600@www.santafaz-cordoba.es
SUMMARY:Quinario Nuestro Padre Jesús Nazareno. Tercer día
DESCRIPTION:
URL:https://www.santafaz-cordoba.es/evento/quinario-nuestro-padre-jesus-nazareno-tercer-dia/
LOCATION:Parroquia de San Juan y Todos los Santos (La Trinidad)\, Lope de Hoces nº1\, Córdoba
CATEGORIES:Cultos,Eucaristías y Adoraciones
END:VEVENT
BEGIN:VEVENT
DTSTART;TZID=Europe/Madrid:20260220T203000
DTEND;TZID=Europe/Madrid:20260220T213000
DTSTAMP:20260423T003836
CREATED:20260206T125440Z
LAST-MODIFIED:20260206T125440Z
UID:2569-1771619400-1771623000@www.santafaz-cordoba.es
SUMMARY:Quinario Nuestro Padre Jesús Nazareno. Cuarto día
DESCRIPTION:
URL:https://www.santafaz-cordoba.es/evento/quinario-nuestro-padre-jesus-nazareno-cuarto-dia/
LOCATION:Parroquia de San Juan y Todos los Santos (La Trinidad)\, Lope de Hoces nº1\, Córdoba
CATEGORIES:Cultos,Eucaristías y Adoraciones
END:VEVENT
BEGIN:VEVENT
DTSTART;TZID=Europe/Madrid:20260221T193000
DTEND;TZID=Europe/Madrid:20260221T203000
DTSTAMP:20260423T003836
CREATED:20260206T125553Z
LAST-MODIFIED:20260206T125553Z
UID:2571-1771702200-1771705800@www.santafaz-cordoba.es
SUMMARY:Quinario Nuestro Padre Jesús Nazareno. Fiesta de regla
DESCRIPTION:
URL:https://www.santafaz-cordoba.es/evento/quinario-nuestro-padre-jesus-nazareno-fiesta-de-regla/
LOCATION:Parroquia de San Juan y Todos los Santos (La Trinidad)\, Lope de Hoces nº1\, Córdoba
CATEGORIES:Cultos,Eucaristías y Adoraciones
END:VEVENT
BEGIN:VEVENT
DTSTART;VALUE=DATE:20260222
DTEND;VALUE=DATE:20260223
DTSTAMP:20260423T003836
CREATED:20260206T125653Z
LAST-MODIFIED:20260206T125654Z
UID:2573-1771718400-1771804799@www.santafaz-cordoba.es
SUMMARY:Besamanos a Nuestro Padre Jesús Nazareno
DESCRIPTION:
URL:https://www.santafaz-cordoba.es/evento/besamanos-a-nuestro-padre-jesus-nazareno-3/
LOCATION:Parroquia de San Juan y Todos los Santos (La Trinidad)\, Lope de Hoces nº1\, Córdoba
CATEGORIES:Cultos,Eucaristías y Adoraciones
END:VEVENT
BEGIN:VEVENT
DTSTART;TZID=Europe/Madrid:20260302T210000
DTEND;TZID=Europe/Madrid:20260303T003000
DTSTAMP:20260423T003836
CREATED:20251124T140106Z
LAST-MODIFIED:20251124T140106Z
UID:2484-1772485200-1772497800@www.santafaz-cordoba.es
SUMMARY:Tercer ensayo del Paso de Misterio
DESCRIPTION:
URL:https://www.santafaz-cordoba.es/evento/tercer-ensayo-del-paso-de-misterio/
LOCATION:Cocherón C/ González López
CATEGORIES:Costaleros
END:VEVENT
BEGIN:VEVENT
DTSTART;TZID=Europe/Madrid:20260312T210000
DTEND;TZID=Europe/Madrid:20260313T003000
DTSTAMP:20260423T003836
CREATED:20251124T140300Z
LAST-MODIFIED:20251124T140300Z
UID:2490-1773349200-1773361800@www.santafaz-cordoba.es
SUMMARY:Tercer ensayo del Paso de Palio
DESCRIPTION:
URL:https://www.santafaz-cordoba.es/evento/tercer-ensayo-del-paso-de-palio/
LOCATION:Cocherón C/ González López
CATEGORIES:Costaleros
END:VEVENT
BEGIN:VEVENT
DTSTART;TZID=Europe/Madrid:20260328T193000
DTEND;TZID=Europe/Madrid:20260328T203000
DTSTAMP:20260423T003836
CREATED:20260325T093651Z
LAST-MODIFIED:20260325T093651Z
UID:2634-1774726200-1774729800@www.santafaz-cordoba.es
SUMMARY:Eucaristía de hermanos y nazarenos 2026
DESCRIPTION:
URL:https://www.santafaz-cordoba.es/evento/misa-de-hermanos-y-nazarenos-2026/
LOCATION:Parroquia de San Juan y Todos los Santos (La Trinidad)\, Lope de Hoces nº1\, Córdoba
CATEGORIES:Eucaristías y Adoraciones
END:VEVENT
BEGIN:VEVENT
DTSTART;TZID=Europe/Madrid:20260429T120000
DTEND;TZID=Europe/Madrid:20260430T000000
DTSTAMP:20260423T003836
CREATED:20260417T130807Z
LAST-MODIFIED:20260417T130808Z
UID:2653-1777464000-1777507200@www.santafaz-cordoba.es
SUMMARY:Cruz de Mayo 2026 - Primer día
DESCRIPTION:
URL:https://www.santafaz-cordoba.es/evento/cruz-de-mayo-2026-primer-dia/
LOCATION:Plaza de la Compañía
CATEGORIES:Convivencias
END:VEVENT
BEGIN:VEVENT
DTSTART;TZID=Europe/Madrid:20260430T120000
DTEND;TZID=Europe/Madrid:20260501T020000
DTSTAMP:20260423T003836
CREATED:20260417T130843Z
LAST-MODIFIED:20260417T130843Z
UID:2655-1777550400-1777600800@www.santafaz-cordoba.es
SUMMARY:Cruz de Mayo 2026 - Segundo día
DESCRIPTION:
URL:https://www.santafaz-cordoba.es/evento/cruz-de-mayo-2026-segundo-dia/
LOCATION:Plaza de la Compañía
CATEGORIES:Convivencias
END:VEVENT
BEGIN:VEVENT
DTSTART;TZID=Europe/Madrid:20260501T120000
DTEND;TZID=Europe/Madrid:20260502T020000
DTSTAMP:20260423T003836
CREATED:20260417T130923Z
LAST-MODIFIED:20260417T130923Z
UID:2657-1777636800-1777687200@www.santafaz-cordoba.es
SUMMARY:Cruz de Mayo 2026 - Tercer día
DESCRIPTION:
URL:https://www.santafaz-cordoba.es/evento/cruz-de-mayo-2026-tercer-dia/
LOCATION:Plaza de la Compañía
CATEGORIES:Convivencias
END:VEVENT
BEGIN:VEVENT
DTSTART;TZID=Europe/Madrid:20260502T120000
DTEND;TZID=Europe/Madrid:20260503T020000
DTSTAMP:20260423T003836
CREATED:20260417T130957Z
LAST-MODIFIED:20260417T130957Z
UID:2659-1777723200-1777773600@www.santafaz-cordoba.es
SUMMARY:Cruz de Mayo 2026 - Cuarto día
DESCRIPTION:
URL:https://www.santafaz-cordoba.es/evento/cruz-de-mayo-2026-cuarto-dia/
LOCATION:Plaza de la Compañía
CATEGORIES:Convivencias
END:VEVENT
END:VCALENDAR