BEGIN:VCALENDAR
VERSION:2.0
PRODID:-//santafaz-cordoba.es - ECPv6.15.20//NONSGML v1.0//EN
CALSCALE:GREGORIAN
METHOD:PUBLISH
X-ORIGINAL-URL:https://www.santafaz-cordoba.es
X-WR-CALDESC:Eventos para santafaz-cordoba.es
REFRESH-INTERVAL;VALUE=DURATION:PT1H
X-Robots-Tag:noindex
X-PUBLISHED-TTL:PT1H
BEGIN:VTIMEZONE
TZID:Europe/Madrid
BEGIN:DAYLIGHT
TZOFFSETFROM:+0100
TZOFFSETTO:+0200
TZNAME:CEST
DTSTART:20210328T010000
END:DAYLIGHT
BEGIN:STANDARD
TZOFFSETFROM:+0200
TZOFFSETTO:+0100
TZNAME:CET
DTSTART:20211031T010000
END:STANDARD
BEGIN:DAYLIGHT
TZOFFSETFROM:+0100
TZOFFSETTO:+0200
TZNAME:CEST
DTSTART:20220327T010000
END:DAYLIGHT
BEGIN:STANDARD
TZOFFSETFROM:+0200
TZOFFSETTO:+0100
TZNAME:CET
DTSTART:20221030T010000
END:STANDARD
BEGIN:DAYLIGHT
TZOFFSETFROM:+0100
TZOFFSETTO:+0200
TZNAME:CEST
DTSTART:20230326T010000
END:DAYLIGHT
BEGIN:STANDARD
TZOFFSETFROM:+0200
TZOFFSETTO:+0100
TZNAME:CET
DTSTART:20231029T010000
END:STANDARD
END:VTIMEZONE
BEGIN:VEVENT
DTSTART;TZID=Europe/Madrid:20220130T113000
DTEND;TZID=Europe/Madrid:20220130T130000
DTSTAMP:20260419T233130
CREATED:20220119T190029Z
LAST-MODIFIED:20220119T164449Z
UID:1201-1643542200-1643547600@www.santafaz-cordoba.es
SUMMARY:Igualá del Misterio
DESCRIPTION:Igualá del Paso de Misterio de Nuestro Padre Jesús Nazareno.
URL:https://www.santafaz-cordoba.es/evento/iguala-del-misterio/
LOCATION:Cocherón C/ González López
END:VEVENT
END:VCALENDAR