BEGIN:VCALENDAR
VERSION:2.0
PRODID:-//santafaz-cordoba.es - ECPv6.15.20//NONSGML v1.0//EN
CALSCALE:GREGORIAN
METHOD:PUBLISH
X-ORIGINAL-URL:https://www.santafaz-cordoba.es
X-WR-CALDESC:Eventos para santafaz-cordoba.es
REFRESH-INTERVAL;VALUE=DURATION:PT1H
X-Robots-Tag:noindex
X-PUBLISHED-TTL:PT1H
BEGIN:VTIMEZONE
TZID:Europe/Madrid
BEGIN:DAYLIGHT
TZOFFSETFROM:+0100
TZOFFSETTO:+0200
TZNAME:CEST
DTSTART:20200329T010000
END:DAYLIGHT
BEGIN:STANDARD
TZOFFSETFROM:+0200
TZOFFSETTO:+0100
TZNAME:CET
DTSTART:20201025T010000
END:STANDARD
BEGIN:DAYLIGHT
TZOFFSETFROM:+0100
TZOFFSETTO:+0200
TZNAME:CEST
DTSTART:20210328T010000
END:DAYLIGHT
BEGIN:STANDARD
TZOFFSETFROM:+0200
TZOFFSETTO:+0100
TZNAME:CET
DTSTART:20211031T010000
END:STANDARD
BEGIN:DAYLIGHT
TZOFFSETFROM:+0100
TZOFFSETTO:+0200
TZNAME:CEST
DTSTART:20220327T010000
END:DAYLIGHT
BEGIN:STANDARD
TZOFFSETFROM:+0200
TZOFFSETTO:+0100
TZNAME:CET
DTSTART:20221030T010000
END:STANDARD
END:VTIMEZONE
BEGIN:VEVENT
DTSTART;TZID=Europe/Madrid:20211223T080000
DTEND;TZID=Europe/Madrid:20211231T235900
DTSTAMP:20260422T160951
CREATED:20211223T165230Z
LAST-MODIFIED:20211223T165230Z
UID:1170-1640246400-1640995140@www.santafaz-cordoba.es
SUMMARY:Concurso de Christmas 2021
DESCRIPTION:Concurso de Christmas de Temática Navideña\, organizado por el Grupo Joven\, destinado a niños de entre 3 a 12 años.
URL:https://www.santafaz-cordoba.es/evento/concurso-de-christmas-2021/
LOCATION:Casa Hermandad (Sanchez de Feria nº12)
END:VEVENT
END:VCALENDAR